BEGIN:VCALENDAR
VERSION:2.0
PRODID:-//St. Barnabas Anglican Parish Official Website - ECPv6.15.20//NONSGML v1.0//EN
CALSCALE:GREGORIAN
METHOD:PUBLISH
X-WR-CALNAME:St. Barnabas Anglican Parish Official Website
X-ORIGINAL-URL:https://stbarnabasanglicanparishtt.com
X-WR-CALDESC:Events for St. Barnabas Anglican Parish Official Website
REFRESH-INTERVAL;VALUE=DURATION:PT1H
X-Robots-Tag:noindex
X-PUBLISHED-TTL:PT1H
BEGIN:VTIMEZONE
TZID:America/Port_of_Spain
BEGIN:STANDARD
TZOFFSETFROM:-0400
TZOFFSETTO:-0400
TZNAME:AST
DTSTART:20190101T000000
END:STANDARD
END:VTIMEZONE
BEGIN:VEVENT
DTSTART;TZID=America/Port_of_Spain:20231022T180000
DTEND;TZID=America/Port_of_Spain:20231022T200000
DTSTAMP:20260424T113117
CREATED:20231001T202737Z
LAST-MODIFIED:20231001T202737Z
UID:2110-1697997600-1698004800@stbarnabasanglicanparishtt.com
SUMMARY:An October to Remember 4
DESCRIPTION:
URL:https://stbarnabasanglicanparishtt.com/event/an-october-to-remember-4/
LOCATION:Naparima Bowl San Fernando\, San Fernando\, 00000\, Trinidad and Tobago
END:VEVENT
BEGIN:VEVENT
DTSTART;TZID=America/Port_of_Spain:20230115T080000
DTEND;TZID=America/Port_of_Spain:20230115T170000
DTSTAMP:20260424T113117
CREATED:20230116T015447Z
LAST-MODIFIED:20230116T020828Z
UID:2004-1673769600-1673802000@stbarnabasanglicanparishtt.com
SUMMARY:The Anglican Church in the Diocese of Trinidad and Tobago: South Region Family Day
DESCRIPTION:
URL:https://stbarnabasanglicanparishtt.com/event/the-anglican-church-in-the-diocese-of-trinidad-and-tobago-south-region-family-day/
END:VEVENT
BEGIN:VEVENT
DTSTART;TZID=America/Port_of_Spain:20221016T180000
DTEND;TZID=America/Port_of_Spain:20221016T200000
DTSTAMP:20260424T113117
CREATED:20220925T212630Z
LAST-MODIFIED:20220925T212724Z
UID:1952-1665943200-1665950400@stbarnabasanglicanparishtt.com
SUMMARY:An October to Remember-- Concert 3
DESCRIPTION:
URL:https://stbarnabasanglicanparishtt.com/event/an-october-to-remember-concert-3/
LOCATION:Naparima Bowl San Fernando\, San Fernando\, 00000\, Trinidad and Tobago
END:VEVENT
BEGIN:VEVENT
DTSTART;VALUE=DATE:20200410
DTEND;VALUE=DATE:20200411
DTSTAMP:20260424T113117
CREATED:20200410T141818Z
LAST-MODIFIED:20200410T142341Z
UID:1355-1586476800-1586528340@stbarnabasanglicanparishtt.com
SUMMARY:St. Barnabas Good Friday 2020
DESCRIPTION:
URL:https://stbarnabasanglicanparishtt.com/event/stbarnabasgoodfriday2020/
END:VEVENT
END:VCALENDAR